BEGIN:VCALENDAR
VERSION:2.0
PRODID:-//eventon.com NONSGML v1.0//EN
BEGIN:VEVENT
UID:69eb9f8482abd
DTSTAMP:20260424T165116
DTSTART:20251212T233000Z
DTEND:20251213T013000Z
TZID:America/Chicago
LOCATION:Santa's Corner 305 W FM 1382 Suite 406
SUMMARY:Pajama Party with Santa
DESCRIPTION: SANTA&#8217;S CORNER\,  SUITE 406 Come join us for a festive Pajama Party at Santa’s Corner! Before your annual visit with Santa\,  enjoy sweet treats* and story time with Mrs. Claus. Story times will take place at 5:45 pm\,  6:15 pm\,  and 6:45 pm.** To ensure everyone has a chance to[..]
URL:https://shophillsidevillage.com/events/pajama-party/
END:VEVENT
END:VCALENDAR